Workbook

Sheet CAM
B1: Cost Allocation Method
B3: Some conservation district expenses, such as vehicles, rent, field or office equipment, and office expenses, are shared between programs. Each program's funds should be used to pay for the portion of shared expenses used by the program. Usage can be estimated by the staff time spent on each program. Keep in mind that each program has individual requirements and funds may only be spent on eligible expenses.
B4: Directions: For each staff member, list how much of their time is spent on each program. This can be done in hours or percentages of a full time equivalent (FTE). Note that the total time for each staff should be 1 (if using FTEs) or the total number of hours in the time period. For a general CAM for overhead expenses, it is recommended to use annual averages of staff time spent on each program for cost allocation methods. Only edit cells with red text.
B6: Program | C6: percent | D6: total time (by Program) | E6: Manager | F6: Admin Asst | G6: E&S Tech | H6: Ag Tech | I6: DGLVR Tech | J6: Watershed Specialist | K6: ACAP tech | L6: Staff 8 | M6: Staff 9 | N6: Staff 10 | O6: Staff 11 | P6: Staff 12 | Q6: Staff 13 | R6: Staff 14 | S6: Staff 15 | T6: Staff 16 | U6: Staff 17 | V6: Staff 18 | W6: Staff 19 | X6: Staff 20 | Y6: Staff 21 | Z6: Staff 22 | AA6: Staff 23 | AB6: Staff 24 | AC6: Staff 25 | AD6: Staff 26 | AE6: Staff 27 | AF6: Staff 28 | AG6: Staff 29 | AH6: Program2
B7: District Manager | C7: =ROUND(Table3[[#This Row],[total time (by Program)]]/$D$47,2) -> 0 | D7: =SUM(Table3[[#This Row],[Manager]:[Staff 29]]) -> 0 | AH7: =Table3[[#This Row],[Program]] -> District Manager
B8: Admin Assistance | C8: =ROUND(Table3[[#This Row],[total time (by Program)]]/$D$47,2) -> 0 | D8: =SUM(Table3[[#This Row],[Manager]:[Staff 29]]) -> 0 | AH8: =Table3[[#This Row],[Program]] -> Admin Assistance
B9: Chapter 102 | C9: =ROUND(Table3[[#This Row],[total time (by Program)]]/$D$47,2) -> 0.2 | D9: =SUM(Table3[[#This Row],[Manager]:[Staff 29]]) -> 1.4 | E9: =ROUND((1/5),4) -> 0.2 | F9: =ROUND((1/5),4) -> 0.2 | G9: 1 | AH9: =Table3[[#This Row],[Program]] -> Chapter 102
B10: Chapter 105 | C10: =ROUND(Table3[[#This Row],[total time (by Program)]]/$D$47,2) -> 0 | D10: =SUM(Table3[[#This Row],[Manager]:[Staff 29]]) -> 0 | AH10: =Table3[[#This Row],[Program]] -> Chapter 105
B11: Chesapeake Bay Program | C11: =ROUND(Table3[[#This Row],[total time (by Program)]]/$D$47,2) -> 0.13 | D11: =SUM(Table3[[#This Row],[Manager]:[Staff 29]]) -> 0.9 | E11: =ROUND((1/5),4) -> 0.2 | F11: =ROUND((1/5),4) -> 0.2 | H11: 0.5 | AH11: =Table3[[#This Row],[Program]] -> Chesapeake Bay Program
B12: Nutrient Management (Act 38) | C12: =ROUND(Table3[[#This Row],[total time (by Program)]]/$D$47,2) -> 0.13 | D12: =SUM(Table3[[#This Row],[Manager]:[Staff 29]]) -> 0.9 | E12: =ROUND((1/5),4) -> 0.2 | F12: =ROUND((1/5),4) -> 0.2 | H12: 0.5 | AH12: =Table3[[#This Row],[Program]] -> Nutrient Management (Act 38)
B13: Agriculture Conservation Technician (ACT) | C13: =ROUND(Table3[[#This Row],[total time (by Program)]]/$D$47,2) -> 0 | D13: =SUM(Table3[[#This Row],[Manager]:[Staff 29]]) -> 0 | AH13: =Table3[[#This Row],[Program]] -> Agriculture Conservation Technician (ACT)
B14: Agriculture Conservation Assistance Program (ACAP) | C14: =ROUND(Table3[[#This Row],[total time (by Program)]]/$D$47,2) -> 0.2 | D14: =SUM(Table3[[#This Row],[Manager]:[Staff 29]]) -> 1.4 | E14: =ROUND((1/5),4) -> 0.2 | F14: =ROUND((1/5),4) -> 0.2 | K14: 1 | AH14: =Table3[[#This Row],[Program]] -> Agriculture Conservation Assistance Program (ACAP)
B15: Conservation Excellence Grant Program (CEG) | C15: =ROUND(Table3[[#This Row],[total time (by Program)]]/$D$47,2) -> 0 | D15: =SUM(Table3[[#This Row],[Manager]:[Staff 29]]) -> 0 | AH15: =Table3[[#This Row],[Program]] -> Conservation Excellence Grant Program (CEG)
B16: Farmland Preservation | C16: =ROUND(Table3[[#This Row],[total time (by Program)]]/$D$47,2) -> 0 | D16: =SUM(Table3[[#This Row],[Manager]:[Staff 29]]) -> 0 | AH16: =Table3[[#This Row],[Program]] -> Farmland Preservation
B17: Countywide Action Plan (CAP) | C17: =ROUND(Table3[[#This Row],[total time (by Program)]]/$D$47,2) -> 0 | D17: =SUM(Table3[[#This Row],[Manager]:[Staff 29]]) -> 0 | AH17: =Table3[[#This Row],[Program]] -> Countywide Action Plan (CAP)
B18: Watershed Specialist | C18: =ROUND(Table3[[#This Row],[total time (by Program)]]/$D$47,2) -> 0.2 | D18: =SUM(Table3[[#This Row],[Manager]:[Staff 29]]) -> 1.4 | E18: =ROUND((1/5),4) -> 0.2 | F18: =ROUND((1/5),4) -> 0.2 | J18: 1 | AH18: =Table3[[#This Row],[Program]] -> Watershed Specialist
B19: Spotted Lanternfly Ed. And Control Program | C19: =ROUND(Table3[[#This Row],[total time (by Program)]]/$D$47,2) -> 0 | D19: =SUM(Table3[[#This Row],[Manager]:[Staff 29]]) -> 0 | AH19: =Table3[[#This Row],[Program]] -> Spotted Lanternfly Ed. And Control Program
B20: Mosquito-borne Disease Control | C20: =ROUND(Table3[[#This Row],[total time (by Program)]]/$D$47,2) -> 0 | D20: =SUM(Table3[[#This Row],[Manager]:[Staff 29]]) -> 0 | AH20: =Table3[[#This Row],[Program]] -> Mosquito-borne Disease Control
B21: Dirt, Gravel, and Low Volume Road Program (DGLVR) | C21: =ROUND(Table3[[#This Row],[total time (by Program)]]/$D$47,2) -> 0.14 | D21: =SUM(Table3[[#This Row],[Manager]:[Staff 29]]) -> 1 | I21: 1 | AH21: =Table3[[#This Row],[Program]] -> Dirt, Gravel, and Low Volume Road Program (DGLVR)
B22: other 1 | C22: =ROUND(Table3[[#This Row],[total time (by Program)]]/$D$47,2) -> 0 | D22: =SUM(Table3[[#This Row],[Manager]:[Staff 29]]) -> 0 | AH22: =Table3[[#This Row],[Program]] -> other 1
B23: other 2 | C23: =ROUND(Table3[[#This Row],[total time (by Program)]]/$D$47,2) -> 0 | D23: =SUM(Table3[[#This Row],[Manager]:[Staff 29]]) -> 0 | AH23: =Table3[[#This Row],[Program]] -> other 2
B24: other 3 | C24: =ROUND(Table3[[#This Row],[total time (by Program)]]/$D$47,2) -> 0 | D24: =SUM(Table3[[#This Row],[Manager]:[Staff 29]]) -> 0 | AH24: =Table3[[#This Row],[Program]] -> other 3
B25: other 4 | C25: =ROUND(Table3[[#This Row],[total time (by Program)]]/$D$47,2) -> 0 | D25: =SUM(Table3[[#This Row],[Manager]:[Staff 29]]) -> 0 | AH25: =Table3[[#This Row],[Program]] -> other 4
B26: other 5 | C26: =ROUND(Table3[[#This Row],[total time (by Program)]]/$D$47,2) -> 0 | D26: =SUM(Table3[[#This Row],[Manager]:[Staff 29]]) -> 0 | AH26: =Table3[[#This Row],[Program]] -> other 5
B27: other 6 | C27: =ROUND(Table3[[#This Row],[total time (by Program)]]/$D$47,2) -> 0 | D27: =SUM(Table3[[#This Row],[Manager]:[Staff 29]]) -> 0 | AH27: =Table3[[#This Row],[Program]] -> other 6
B28: other 7 | C28: =ROUND(Table3[[#This Row],[total time (by Program)]]/$D$47,2) -> 0 | D28: =SUM(Table3[[#This Row],[Manager]:[Staff 29]]) -> 0 | AH28: =Table3[[#This Row],[Program]] -> other 7
B29: other 8 | C29: =ROUND(Table3[[#This Row],[total time (by Program)]]/$D$47,2) -> 0 | D29: =SUM(Table3[[#This Row],[Manager]:[Staff 29]]) -> 0 | AH29: =Table3[[#This Row],[Program]] -> other 8
B30: other 9 | C30: =ROUND(Table3[[#This Row],[total time (by Program)]]/$D$47,2) -> 0 | D30: =SUM(Table3[[#This Row],[Manager]:[Staff 29]]) -> 0 | AH30: =Table3[[#This Row],[Program]] -> other 9
B31: other 10 | C31: =ROUND(Table3[[#This Row],[total time (by Program)]]/$D$47,2) -> 0 | D31: =SUM(Table3[[#This Row],[Manager]:[Staff 29]]) -> 0 | AH31: =Table3[[#This Row],[Program]] -> other 10
B32: other 11 | C32: =ROUND(Table3[[#This Row],[total time (by Program)]]/$D$47,2) -> 0 | D32: =SUM(Table3[[#This Row],[Manager]:[Staff 29]]) -> 0 | AH32: =Table3[[#This Row],[Program]] -> other 11
B33: other 12 | C33: =ROUND(Table3[[#This Row],[total time (by Program)]]/$D$47,2) -> 0 | D33: =SUM(Table3[[#This Row],[Manager]:[Staff 29]]) -> 0 | AH33: =Table3[[#This Row],[Program]] -> other 12
... B46: other 25 | C46: =ROUND(Table3[[#This Row],[total time (by Program)]]/$D$47,2) -> 0 | D46: =SUM(Table3[[#This Row],[Manager]:[Staff 29]]) -> 0 | AH46: =Table3[[#This Row],[Program]] -> other 25
B47: Total time (per staff) | C47: =SUM(C7:C46) -> 1 | D47: =SUM(Table3[[#This Row],[Manager]:[Staff 29]]) -> 7 | E47: =SUM(E7:E45) -> 1 | F47: =SUM(F7:F45) -> 1 | G47: =SUM(G7:G45) -> 1 | H47: =SUM(H7:H45) -> 1 | I47: =SUM(I7:I45) -> 1 | J47: =SUM(J7:J45) -> 1 | K47: =SUM(K7:K45) -> 1 | L47: =SUM(L7:L45) -> 0 | ... AG47: =SUM(AG7:AG45) -> 0

Sheet expense breakdown
B1: Expense Breakdown
B2: Directions: Each expense to be paid using the cost allocation method above will be a column below. Enter the name and dollar amount of each expense where the red text is. This table will use the CAM developed above to determine how much each Program should pay of each expense. You can double check that the spreadsheet is working by verifying that total expense calculated at the bottom of the column (row 91) matches the amount entered in row 54. The total amount that each program will pay towards the total expenses entered in the columns below is in column R: Total to be paid (by Program).
B5: Program Funding Source | C5: Percent of staff time | D5: total to be paid by program | E5: rent | F5: electric | G5: office supplies | H5: Column1 | I5: Column2 | J5: Column3 | K5: Column4 | L5: Column5 | M5: Column6 | N5: Column7 | O5: Column8 | P5: Column9 | Q5: Column10 | R5: Column11 | S5: Column12 | T5: Column13 | U5: Column14 | V5: Column15 | W5: Column16 | X5: Column17 | Y5: Column18 | Z5: Column19 | AA5: Column20 | AB5: Column21 | AC5: Column22 | AD5: Column23 | AE5: Column24 | AF5: Column25 | AG5: Column26 | AH5: Column27 | AI5: Column28 | AJ5: Column29 | AK5: Column30 | AL5: Column31 | AM5: Column32 | AN5: Column33 | AO5: Column34 | AP5: Column35 | AQ5: Column36 | AR5: Column37 | AS5: Column38 | AT5: Column39 | AU5: Column40 | AV5: Column41 | AW5: Column42 | AX5: Column43 | AY5: Column44 | AZ5: Column45
B6: fill in total cost of expense to be paid by multiple programs --> | C6: 1 | D6: =SUM(Table73[[#This Row],[rent]:[Column45]]) -> 2600 | E6: 2000 | F6: 100 | G6: 500 | H6: 0 | I6: 0 | J6: 0 | K6: 0 | L6: 0 | M6: 0 | N6: 0 | O6: 0 | P6: 0 | Q6: 0 | R6: 0 | S6: 0 | T6: 0 | U6: 0 | V6: 0 | W6: 0 | X6: 0 | Y6: 0 | Z6: 0 | AA6: 0 | AB6: 0 | AC6: 0 | AD6: 0 | AE6: 0 | AF6: 0 | AG6: 0 | AH6: 0 | AI6: 0 | AJ6: 0 | AK6: 0 | AL6: 0 | AM6: 0 | AN6: 0 | AO6: 0 | AP6: 0 | AQ6: 0 | AR6: 0 | AS6: 0 | AT6: 0 | AU6: 0 | AV6: 0 | AW6: 0 | AX6: 0 | AY6: 0 | AZ6: 0
B7: =CAM!B7 -> District Manager | C7: =Table3[[#This Row],[percent]] -> 0 | D7: =SUM(Table73[[#This Row],[rent]:[Column45]]) -> 0 | E7: =ROUND(($C$7*E6),2) -> 0 | F7: =ROUND(($C$7*F6),2) -> 0 | G7: =ROUND(($C$7*G6),2) -> 0 | H7: =ROUND(($C$7*H6),2) -> 0 | I7: =ROUND(($C$7*I6),2) -> 0 | J7: =ROUND(($C$7*J6),2) -> 0 | K7: =ROUND(($C$7*K6),2) -> 0 | L7: =ROUND(($C$7*L6),2) -> 0 | ... AZ7: =ROUND(($C$7*AZ6),2) -> 0
B8: =CAM!B8 -> Admin Assistance | C8: =Table3[[#This Row],[percent]] -> 0 | D8: =SUM(Table73[[#This Row],[rent]:[Column45]]) -> 0 | E8: =ROUND(($C$8*E6),2) -> 0 | F8: =ROUND(($C$8*F6),2) -> 0 | G8: =ROUND(($C$8*G6),2) -> 0 | H8: =ROUND(($C$8*H6),2) -> 0 | I8: =ROUND(($C$8*I6),2) -> 0 | J8: =ROUND(($C$8*J6),2) -> 0 | K8: =ROUND(($C$8*K6),2) -> 0 | L8: =ROUND(($C$8*L6),2) -> 0 | ... AZ8: =ROUND(($C$8*AZ6),2) -> 0
B9: =CAM!B9 -> Chapter 102 | C9: =Table3[[#This Row],[percent]] -> 0.2 | D9: =SUM(Table73[[#This Row],[rent]:[Column45]]) -> 520 | E9: =ROUND(($C$9*E6),2) -> 400 | F9: =ROUND(($C$9*F6),2) -> 20 | G9: =ROUND(($C$9*G6),2) -> 100 | H9: =ROUND(($C$9*H6),2) -> 0 | I9: =ROUND(($C$9*I6),2) -> 0 | J9: =ROUND(($C$9*J6),2) -> 0 | K9: =ROUND(($C$9*K6),2) -> 0 | L9: =ROUND(($C$9*L6),2) -> 0 | ... AZ9: =ROUND(($C$9*AZ6),2) -> 0
B10: =CAM!B10 -> Chapter 105 | C10: =Table3[[#This Row],[percent]] -> 0 | D10: =SUM(Table73[[#This Row],[rent]:[Column45]]) -> 0 | E10: =ROUND(($C$10*E6),2) -> 0 | F10: =ROUND(($C$10*F6),2) -> 0 | G10: =ROUND(($C$10*G6),2) -> 0 | H10: =ROUND(($C$10*H6),2) -> 0 | I10: =ROUND(($C$10*I6),2) -> 0 | J10: =ROUND(($C$10*J6),2) -> 0 | K10: =ROUND(($C$10*K6),2) -> 0 | L10: =ROUND(($C$10*L6),2) -> 0 | ... AZ10: =ROUND(($C$10*AZ6),2) -> 0
B11: =CAM!B11 -> Chesapeake Bay Program | C11: =Table3[[#This Row],[percent]] -> 0.13 | D11: =SUM(Table73[[#This Row],[rent]:[Column45]]) -> 338 | E11: =ROUND(($C$11*E6),2) -> 260 | F11: =ROUND(($C$11*F6),2) -> 13 | G11: =ROUND(($C$11*G6),2) -> 65 | H11: =ROUND(($C$11*H6),2) -> 0 | I11: =ROUND(($C$11*I6),2) -> 0 | J11: =ROUND(($C$11*J6),2) -> 0 | K11: =ROUND(($C$11*K6),2) -> 0 | L11: =ROUND(($C$11*L6),2) -> 0 | ... AZ11: =ROUND(($C$11*AZ6),2) -> 0
B12: =CAM!B12 -> Nutrient Management (Act 38) | C12: =Table3[[#This Row],[percent]] -> 0.13 | D12: =SUM(Table73[[#This Row],[rent]:[Column45]]) -> 338 | E12: =ROUND(($C$12*E6),2) -> 260 | F12: =ROUND(($C$12*F6),2) -> 13 | G12: =ROUND(($C$12*G6),2) -> 65 | H12: =ROUND(($C$12*H6),2) -> 0 | I12: =ROUND(($C$12*I6),2) -> 0 | J12: =ROUND(($C$12*J6),2) -> 0 | K12: =ROUND(($C$12*K6),2) -> 0 | L12: =ROUND(($C$12*L6),2) -> 0 | ... AZ12: =ROUND(($C$12*AZ6),2) -> 0
B13: =CAM!B13 -> Agriculture Conservation Technician (ACT) | C13: =Table3[[#This Row],[percent]] -> 0 | D13: =SUM(Table73[[#This Row],[rent]:[Column45]]) -> 0 | E13: =ROUND(($C$13*E6),2) -> 0 | F13: =ROUND(($C$13*F6),2) -> 0 | G13: =ROUND(($C$13*G6),2) -> 0 | H13: =ROUND(($C$13*H6),2) -> 0 | I13: =ROUND(($C$13*I6),2) -> 0 | J13: =ROUND(($C$13*J6),2) -> 0 | K13: =ROUND(($C$13*K6),2) -> 0 | L13: =ROUND(($C$13*L6),2) -> 0 | ... AZ13: =ROUND(($C$13*AZ6),2) -> 0
B14: =CAM!B14 -> Agriculture Conservation Assistance Program (ACAP) | C14: =Table3[[#This Row],[percent]] -> 0.2 | D14: =SUM(Table73[[#This Row],[rent]:[Column45]]) -> 520 | E14: =ROUND(($C$14*E6),2) -> 400 | F14: =ROUND(($C$14*F6),2) -> 20 | G14: =ROUND(($C$14*G6),2) -> 100 | H14: =ROUND(($C$14*H6),2) -> 0 | I14: =ROUND(($C$14*I6),2) -> 0 | J14: =ROUND(($C$14*J6),2) -> 0 | K14: =ROUND(($C$14*K6),2) -> 0 | L14: =ROUND(($C$14*L6),2) -> 0 | ... AZ14: =ROUND(($C$14*AZ6),2) -> 0
B15: =CAM!B15 -> Conservation Excellence Grant Program (CEG) | C15: =Table3[[#This Row],[percent]] -> 0 | D15: =SUM(Table73[[#This Row],[rent]:[Column45]]) -> 0 | E15: =ROUND(($C$15*E6),2) -> 0 | F15: =ROUND(($C$15*F6),2) -> 0 | G15: =ROUND(($C$15*G6),2) -> 0 | H15: =ROUND(($C$15*H6),2) -> 0 | I15: =ROUND(($C$15*I6),2) -> 0 | J15: =ROUND(($C$15*J6),2) -> 0 | K15: =ROUND(($C$15*K6),2) -> 0 | L15: =ROUND(($C$15*L6),2) -> 0 | ... AZ15: =ROUND(($C$15*AZ6),2) -> 0
B16: =CAM!B16 -> Farmland Preservation | C16: =Table3[[#This Row],[percent]] -> 0 | D16: =SUM(Table73[[#This Row],[rent]:[Column45]]) -> 0 | E16: =ROUND(($C$16*E6),2) -> 0 | F16: =ROUND(($C$16*F6),2) -> 0 | G16: =ROUND(($C$16*G6),2) -> 0 | H16: =ROUND(($C$16*H6),2) -> 0 | I16: =ROUND(($C$16*I6),2) -> 0 | J16: =ROUND(($C$16*J6),2) -> 0 | K16: =ROUND(($C$16*K6),2) -> 0 | L16: =ROUND(($C$16*L6),2) -> 0 | ... AZ16: =ROUND(($C$16*AZ6),2) -> 0
B17: =CAM!B17 -> Countywide Action Plan (CAP) | C17: =Table3[[#This Row],[percent]] -> 0 | D17: =SUM(Table73[[#This Row],[rent]:[Column45]]) -> 0 | E17: =ROUND(($C$17*E6),2) -> 0 | F17: =ROUND(($C$17*F6),2) -> 0 | G17: =ROUND(($C$17*G6),2) -> 0 | H17: =ROUND(($C$17*H6),2) -> 0 | I17: =ROUND(($C$17*I6),2) -> 0 | J17: =ROUND(($C$17*J6),2) -> 0 | K17: =ROUND(($C$17*K6),2) -> 0 | L17: =ROUND(($C$17*L6),2) -> 0 | ... AZ17: =ROUND(($C$17*AZ6),2) -> 0
B18: =CAM!B18 -> Watershed Specialist | C18: =Table3[[#This Row],[percent]] -> 0.2 | D18: =SUM(Table73[[#This Row],[rent]:[Column45]]) -> 520 | E18: =ROUND(($C$18*E6),2) -> 400 | F18: =ROUND(($C$18*F6),2) -> 20 | G18: =ROUND(($C$18*G6),2) -> 100 | H18: =ROUND(($C$18*H6),2) -> 0 | I18: =ROUND(($C$18*I6),2) -> 0 | J18: =ROUND(($C$18*J6),2) -> 0 | K18: =ROUND(($C$18*K6),2) -> 0 | L18: =ROUND(($C$18*L6),2) -> 0 | ... AZ18: =ROUND(($C$18*AZ6),2) -> 0
B19: =CAM!B19 -> Spotted Lanternfly Ed. And Control Program | C19: =Table3[[#This Row],[percent]] -> 0 | D19: =SUM(Table73[[#This Row],[rent]:[Column45]]) -> 0 | E19: =ROUND(($C$19*E6),2) -> 0 | F19: =ROUND(($C$19*F6),2) -> 0 | G19: =ROUND(($C$19*G6),2) -> 0 | H19: =ROUND(($C$19*H6),2) -> 0 | I19: =ROUND(($C$19*I6),2) -> 0 | J19: =ROUND(($C$19*J6),2) -> 0 | K19: =ROUND(($C$19*K6),2) -> 0 | L19: =ROUND(($C$19*L6),2) -> 0 | ... AZ19: =ROUND(($C$19*AZ6),2) -> 0
B20: =CAM!B20 -> Mosquito-borne Disease Control | C20: =Table3[[#This Row],[percent]] -> 0 | D20: =SUM(Table73[[#This Row],[rent]:[Column45]]) -> 0 | E20: =ROUND(($C$20*E6),2) -> 0 | F20: =ROUND(($C$20*F6),2) -> 0 | G20: =ROUND(($C$20*G6),2) -> 0 | H20: =ROUND(($C$20*H6),2) -> 0 | I20: =ROUND(($C$20*I6),2) -> 0 | J20: =ROUND(($C$20*J6),2) -> 0 | K20: =ROUND(($C$20*K6),2) -> 0 | L20: =ROUND(($C$20*L6),2) -> 0 | ... AZ20: =ROUND(($C$20*AZ6),2) -> 0
B21: =CAM!B21 -> Dirt, Gravel, and Low Volume Road Program (DGLVR) | C21: =Table3[[#This Row],[percent]] -> 0.14 | D21: =SUM(Table73[[#This Row],[rent]:[Column45]]) -> 364 | E21: =ROUND(($C$21*E6),2) -> 280 | F21: =ROUND(($C$21*F6),2) -> 14 | G21: =ROUND(($C$21*G6),2) -> 70 | H21: =ROUND(($C$21*H6),2) -> 0 | I21: =ROUND(($C$21*I6),2) -> 0 | J21: =ROUND(($C$21*J6),2) -> 0 | K21: =ROUND(($C$21*K6),2) -> 0 | L21: =ROUND(($C$21*L6),2) -> 0 | ... AZ21: =ROUND(($C$21*AZ6),2) -> 0
B22: =CAM!B22 -> other 1 | C22: =Table3[[#This Row],[percent]] -> 0 | D22: =SUM(Table73[[#This Row],[rent]:[Column45]]) -> 0 | E22: =ROUND(($C$22*E6),2) -> 0 | F22: =ROUND(($C$22*F6),2) -> 0 | G22: =ROUND(($C$22*G6),2) -> 0 | H22: =ROUND(($C$22*H6),2) -> 0 | I22: =ROUND(($C$22*I6),2) -> 0 | J22: =ROUND(($C$22*J6),2) -> 0 | K22: =ROUND(($C$22*K6),2) -> 0 | L22: =ROUND(($C$22*L6),2) -> 0 | ... AZ22: =ROUND(($C$22*AZ6),2) -> 0
B23: =CAM!B23 -> other 2 | C23: =Table3[[#This Row],[percent]] -> 0 | D23: =SUM(Table73[[#This Row],[rent]:[Column45]]) -> 0 | E23: =ROUND(($C$23*E6),2) -> 0 | F23: =ROUND(($C$23*F6),2) -> 0 | G23: =ROUND(($C$23*G6),2) -> 0 | H23: =ROUND(($C$23*H6),2) -> 0 | I23: =ROUND(($C$23*I6),2) -> 0 | J23: =ROUND(($C$23*J6),2) -> 0 | K23: =ROUND(($C$23*K6),2) -> 0 | L23: =ROUND(($C$23*L6),2) -> 0 | ... AZ23: =ROUND(($C$23*AZ6),2) -> 0
B24: =CAM!B24 -> other 3 | C24: =Table3[[#This Row],[percent]] -> 0 | D24: =SUM(Table73[[#This Row],[rent]:[Column45]]) -> 0 | E24: =ROUND(($C$24*E6),2) -> 0 | F24: =ROUND(($C$24*F6),2) -> 0 | G24: =ROUND(($C$24*G6),2) -> 0 | H24: =ROUND(($C$24*H6),2) -> 0 | I24: =ROUND(($C$24*I6),2) -> 0 | J24: =ROUND(($C$24*J6),2) -> 0 | K24: =ROUND(($C$24*K6),2) -> 0 | L24: =ROUND(($C$24*L6),2) -> 0 | ... AZ24: =ROUND(($C$24*AZ6),2) -> 0
B25: =CAM!B25 -> other 4 | C25: =Table3[[#This Row],[percent]] -> 0 | D25: =SUM(Table73[[#This Row],[rent]:[Column45]]) -> 0 | E25: =ROUND(($C$25*E6),2) -> 0 | F25: =ROUND(($C$25*F6),2) -> 0 | G25: =ROUND(($C$25*G6),2) -> 0 | H25: =ROUND(($C$25*H6),2) -> 0 | I25: =ROUND(($C$25*I6),2) -> 0 | J25: =ROUND(($C$25*J6),2) -> 0 | K25: =ROUND(($C$25*K6),2) -> 0 | L25: =ROUND(($C$25*L6),2) -> 0 | ... AZ25: =ROUND(($C$25*AZ6),2) -> 0
B26: =CAM!B26 -> other 5 | C26: =Table3[[#This Row],[percent]] -> 0 | D26: =SUM(Table73[[#This Row],[rent]:[Column45]]) -> 0 | E26: =ROUND(($C$26*E6),2) -> 0 | F26: =ROUND(($C$26*F6),2) -> 0 | G26: =ROUND(($C$26*G6),2) -> 0 | H26: =ROUND(($C$26*H6),2) -> 0 | I26: =ROUND(($C$26*I6),2) -> 0 | J26: =ROUND(($C$26*J6),2) -> 0 | K26: =ROUND(($C$26*K6),2) -> 0 | L26: =ROUND(($C$26*L6),2) -> 0 | ... AZ26: =ROUND(($C$26*AZ6),2) -> 0
B27: =CAM!B27 -> other 6 | C27: =Table3[[#This Row],[percent]] -> 0 | D27: =SUM(Table73[[#This Row],[rent]:[Column45]]) -> 0 | E27: =ROUND(($C$27*E6),2) -> 0 | F27: =ROUND(($C$27*F6),2) -> 0 | G27: =ROUND(($C$27*G6),2) -> 0 | H27: =ROUND(($C$27*H6),2) -> 0 | I27: =ROUND(($C$27*I6),2) -> 0 | J27: =ROUND(($C$27*J6),2) -> 0 | K27: =ROUND(($C$27*K6),2) -> 0 | L27: =ROUND(($C$27*L6),2) -> 0 | ... AZ27: =ROUND(($C$27*AZ6),2) -> 0
B28: =CAM!B28 -> other 7 | C28: =Table3[[#This Row],[percent]] -> 0 | D28: =SUM(Table73[[#This Row],[rent]:[Column45]]) -> 0 | E28: =ROUND(($C$28*E6),2) -> 0 | F28: =ROUND(($C$28*F6),2) -> 0 | G28: =ROUND(($C$28*G6),2) -> 0 | H28: =ROUND(($C$28*H6),2) -> 0 | I28: =ROUND(($C$28*I6),2) -> 0 | J28: =ROUND(($C$28*J6),2) -> 0 | K28: =ROUND(($C$28*K6),2) -> 0 | L28: =ROUND(($C$28*L6),2) -> 0 | ... AZ28: =ROUND(($C$28*AZ6),2) -> 0
B29: =CAM!B29 -> other 8 | C29: =Table3[[#This Row],[percent]] -> 0 | D29: =SUM(Table73[[#This Row],[rent]:[Column45]]) -> 0 | E29: =ROUND(($C$29*E6),2) -> 0 | F29: =ROUND(($C$29*F6),2) -> 0 | G29: =ROUND(($C$29*G6),2) -> 0 | H29: =ROUND(($C$29*H6),2) -> 0 | I29: =ROUND(($C$29*I6),2) -> 0 | J29: =ROUND(($C$29*J6),2) -> 0 | K29: =ROUND(($C$29*K6),2) -> 0 | L29: =ROUND(($C$29*L6),2) -> 0 | ... AZ29: =ROUND(($C$29*AZ6),2) -> 0
B30: =CAM!B30 -> other 9 | C30: =Table3[[#This Row],[percent]] -> 0 | D30: =SUM(Table73[[#This Row],[rent]:[Column45]]) -> 0 | E30: =ROUND(($C$30*E6),2) -> 0 | F30: =ROUND(($C$30*F6),2) -> 0 | G30: =ROUND(($C$30*G6),2) -> 0 | H30: =ROUND(($C$30*H6),2) -> 0 | I30: =ROUND(($C$30*I6),2) -> 0 | J30: =ROUND(($C$30*J6),2) -> 0 | K30: =ROUND(($C$30*K6),2) -> 0 | L30: =ROUND(($C$30*L6),2) -> 0 | ... AZ30: =ROUND(($C$30*AZ6),2) -> 0
B31: =CAM!B31 -> other 10 | C31: =Table3[[#This Row],[percent]] -> 0 | D31: =SUM(Table73[[#This Row],[rent]:[Column45]]) -> 0 | E31: =ROUND(($C$31*E6),2) -> 0 | F31: =ROUND(($C$31*F6),2) -> 0 | G31: =ROUND(($C$31*G6),2) -> 0 | H31: =ROUND(($C$31*H6),2) -> 0 | I31: =ROUND(($C$31*I6),2) -> 0 | J31: =ROUND(($C$31*J6),2) -> 0 | K31: =ROUND(($C$31*K6),2) -> 0 | L31: =ROUND(($C$31*L6),2) -> 0 | ... AZ31: =ROUND(($C$31*AZ6),2) -> 0
B32: =CAM!B32 -> other 11 | C32: =Table3[[#This Row],[percent]] -> 0 | D32: =SUM(Table73[[#This Row],[rent]:[Column45]]) -> 0 | E32: =ROUND(($C$32*E6),2) -> 0 | F32: =ROUND(($C$32*F6),2) -> 0 | G32: =ROUND(($C$32*G6),2) -> 0 | H32: =ROUND(($C$32*H6),2) -> 0 | I32: =ROUND(($C$32*I6),2) -> 0 | J32: =ROUND(($C$32*J6),2) -> 0 | K32: =ROUND(($C$32*K6),2) -> 0 | L32: =ROUND(($C$32*L6),2) -> 0 | ... AZ32: =ROUND(($C$32*AZ6),2) -> 0
B33: =CAM!B33 -> other 12 | C33: =Table3[[#This Row],[percent]] -> 0 | D33: =SUM(Table73[[#This Row],[rent]:[Column45]]) -> 0 | E33: =ROUND(($C$33*E6),2) -> 0 | F33: =ROUND(($C$33*F6),2) -> 0 | G33: =ROUND(($C$33*G6),2) -> 0 | H33: =ROUND(($C$33*H6),2) -> 0 | I33: =ROUND(($C$33*I6),2) -> 0 | J33: =ROUND(($C$33*J6),2) -> 0 | K33: =ROUND(($C$33*K6),2) -> 0 | L33: =ROUND(($C$33*L6),2) -> 0 | ... AZ33: =ROUND(($C$33*AZ6),2) -> 0
B34: =CAM!B34 -> other 13 | C34: =Table3[[#This Row],[percent]] -> 0 | D34: =SUM(Table73[[#This Row],[rent]:[Column45]]) -> 0 | E34: =ROUND(($C$34*E6),2) -> 0 | F34: =ROUND(($C$34*F6),2) -> 0 | G34: =ROUND(($C$34*G6),2) -> 0 | H34: =ROUND(($C$34*H6),2) -> 0 | I34: =ROUND(($C$34*I6),2) -> 0 | J34: =ROUND(($C$34*J6),2) -> 0 | K34: =ROUND(($C$34*K6),2) -> 0 | L34: =ROUND(($C$34*L6),2) -> 0 | ... AZ34: =ROUND(($C$34*AZ6),2) -> 0
B35: =CAM!B35 -> other 14 | C35: =Table3[[#This Row],[percent]] -> 0 | D35: =SUM(Table73[[#This Row],[rent]:[Column45]]) -> 0 | E35: =ROUND(($C$35*E6),2) -> 0 | F35: =ROUND(($C$35*F6),2) -> 0 | G35: =ROUND(($C$35*G6),2) -> 0 | H35: =ROUND(($C$35*H6),2) -> 0 | I35: =ROUND(($C$35*I6),2) -> 0 | J35: =ROUND(($C$35*J6),2) -> 0 | K35: =ROUND(($C$35*K6),2) -> 0 | L35: =ROUND(($C$35*L6),2) -> 0 | ... AZ35: =ROUND(($C$35*AZ6),2) -> 0
B36: =CAM!B36 -> other 15 | C36: =Table3[[#This Row],[percent]] -> 0 | D36: =SUM(Table73[[#This Row],[rent]:[Column45]]) -> 0 | E36: =ROUND(($C$36*E6),2) -> 0 | F36: =ROUND(($C$36*F6),2) -> 0 | G36: =ROUND(($C$36*G6),2) -> 0 | H36: =ROUND(($C$36*H6),2) -> 0 | I36: =ROUND(($C$36*I6),2) -> 0 | J36: =ROUND(($C$36*J6),2) -> 0 | K36: =ROUND(($C$36*K6),2) -> 0 | L36: =ROUND(($C$36*L6),2) -> 0 | ... AZ36: =ROUND(($C$36*AZ6),2) -> 0
B37: =CAM!B37 -> other 16 | C37: =Table3[[#This Row],[percent]] -> 0 | D37: =SUM(Table73[[#This Row],[rent]:[Column45]]) -> 0 | E37: =ROUND(($C$36*E7),2) -> 0 | F37: =ROUND(($C$36*F7),2) -> 0 | G37: =ROUND(($C$36*G7),2) -> 0 | H37: =ROUND(($C$36*H7),2) -> 0 | I37: =ROUND(($C$36*I7),2) -> 0 | J37: =ROUND(($C$36*J7),2) -> 0 | K37: =ROUND(($C$36*K7),2) -> 0 | L37: =ROUND(($C$36*L7),2) -> 0 | ... AZ37: =ROUND(($C$36*AZ7),2) -> 0
B38: =CAM!B38 -> other 17 | C38: =Table3[[#This Row],[percent]] -> 0 | D38: =SUM(Table73[[#This Row],[rent]:[Column45]]) -> 0 | E38: =ROUND(($C$36*E8),2) -> 0 | F38: =ROUND(($C$36*F8),2) -> 0 | G38: =ROUND(($C$36*G8),2) -> 0 | H38: =ROUND(($C$36*H8),2) -> 0 | I38: =ROUND(($C$36*I8),2) -> 0 | J38: =ROUND(($C$36*J8),2) -> 0 | K38: =ROUND(($C$36*K8),2) -> 0 | L38: =ROUND(($C$36*L8),2) -> 0 | ... AZ38: =ROUND(($C$36*AZ8),2) -> 0
B39: =CAM!B39 -> other 18 | C39: =Table3[[#This Row],[percent]] -> 0 | D39: =SUM(Table73[[#This Row],[rent]:[Column45]]) -> 0 | E39: =ROUND(($C$36*E9),2) -> 0 | F39: =ROUND(($C$36*F9),2) -> 0 | G39: =ROUND(($C$36*G9),2) -> 0 | H39: =ROUND(($C$36*H9),2) -> 0 | I39: =ROUND(($C$36*I9),2) -> 0 | J39: =ROUND(($C$36*J9),2) -> 0 | K39: =ROUND(($C$36*K9),2) -> 0 | L39: =ROUND(($C$36*L9),2) -> 0 | ... AZ39: =ROUND(($C$36*AZ9),2) -> 0
B40: =CAM!B40 -> other 19 | C40: =Table3[[#This Row],[percent]] -> 0 | D40: =SUM(Table73[[#This Row],[rent]:[Column45]]) -> 0 | E40: =ROUND(($C$36*E10),2) -> 0 | F40: =ROUND(($C$36*F10),2) -> 0 | G40: =ROUND(($C$36*G10),2) -> 0 | H40: =ROUND(($C$36*H10),2) -> 0 | I40: =ROUND(($C$36*I10),2) -> 0 | J40: =ROUND(($C$36*J10),2) -> 0 | K40: =ROUND(($C$36*K10),2) -> 0 | L40: =ROUND(($C$36*L10),2) -> 0 | ... AZ40: =ROUND(($C$36*AZ10),2) -> 0
B41: =CAM!B41 -> other 20 | C41: =Table3[[#This Row],[percent]] -> 0 | D41: =SUM(Table73[[#This Row],[rent]:[Column45]]) -> 0 | E41: =ROUND(($C$36*E11),2) -> 0 | F41: =ROUND(($C$36*F11),2) -> 0 | G41: =ROUND(($C$36*G11),2) -> 0 | H41: =ROUND(($C$36*H11),2) -> 0 | I41: =ROUND(($C$36*I11),2) -> 0 | J41: =ROUND(($C$36*J11),2) -> 0 | K41: =ROUND(($C$36*K11),2) -> 0 | L41: =ROUND(($C$36*L11),2) -> 0 | ... AZ41: =ROUND(($C$36*AZ11),2) -> 0
B42: =CAM!B42 -> other 21 | C42: =Table3[[#This Row],[percent]] -> 0 | D42: =SUM(Table73[[#This Row],[rent]:[Column45]]) -> 0 | E42: =ROUND(($C$36*E12),2) -> 0 | F42: =ROUND(($C$36*F12),2) -> 0 | G42: =ROUND(($C$36*G12),2) -> 0 | H42: =ROUND(($C$36*H12),2) -> 0 | I42: =ROUND(($C$36*I12),2) -> 0 | J42: =ROUND(($C$36*J12),2) -> 0 | K42: =ROUND(($C$36*K12),2) -> 0 | L42: =ROUND(($C$36*L12),2) -> 0 | ... AZ42: =ROUND(($C$36*AZ12),2) -> 0
...
